BEGIN:VCALENDAR
VERSION:2.0
PRODID:spatie/icalendar-generator
DESCRIPTION:Events from RomeRock Association
X-WR-CALDESC:Events from RomeRock Association
REFRESH-INTERVAL;VALUE=DURATION:PT1440M
X-PUBLISHED-TTL:PT1440M
BEGIN:VTIMEZONE
TZID:America/New_York
BEGIN:STANDARD
DTSTART:20251102T020000Z
TZOFFSETFROM:-0400
TZOFFSETTO:-0500
END:STANDARD
BEGIN:DAYLIGHT
DTSTART:20260308T020000Z
TZOFFSETFROM:-0500
TZOFFSETTO:-0400
END:DAYLIGHT
END:VTIMEZONE
BEGIN:VTIMEZONE
TZID:UTC
BEGIN:STANDARD
DTSTART:20250727T204018Z
TZOFFSETFROM:+0000
TZOFFSETTO:+0000
END:STANDARD
END:VTIMEZONE
BEGIN:VEVENT
UID:6408-701
DTSTAMP:20260423T204018Z
SUMMARY:Board of Directors Meeting
LOCATION:RSV Village Hall 2500 Hayford Rd  Roaming Shores OH 44084
ORGANIZER;CN=rraoffice:MAILTO:wcarley@roamingshores.org
DTSTART;TZID=America/New_York:20260425T100000
DTEND;TZID=America/New_York:20260425T120000
X-ALT-DESC;FMTTYPE=TEXT/HTML:The RRA Board of Directors will hold a regular
  meeting. Due to Clubhouse renovations\, this meeting will take place at V
 illage Hall.
CATEGORIES:RRA
URL;VALUE=URI:https://www.roamingshores.org/RRA1/mc-events/board-of-directo
 rs-meeting-2/
METHOD:PUBLISH
END:VEVENT
END:VCALENDAR