BEGIN:VCALENDAR
VERSION:2.0
PRODID:spatie/icalendar-generator
DESCRIPTION:Events from RomeRock Association
X-WR-CALDESC:Events from RomeRock Association
REFRESH-INTERVAL;VALUE=DURATION:PT1440M
X-PUBLISHED-TTL:PT1440M
BEGIN:VTIMEZONE
TZID:America/New_York
BEGIN:STANDARD
DTSTART:20251102T020000Z
TZOFFSETFROM:-0400
TZOFFSETTO:-0500
END:STANDARD
BEGIN:DAYLIGHT
DTSTART:20260308T020000Z
TZOFFSETFROM:-0500
TZOFFSETTO:-0400
END:DAYLIGHT
BEGIN:STANDARD
DTSTART:20261101T020000Z
TZOFFSETFROM:-0400
TZOFFSETTO:-0500
END:STANDARD
END:VTIMEZONE
BEGIN:VTIMEZONE
TZID:UTC
BEGIN:STANDARD
DTSTART:20250727T221844Z
TZOFFSETFROM:+0000
TZOFFSETTO:+0000
END:STANDARD
END:VTIMEZONE
BEGIN:VEVENT
UID:7110-280
DTSTAMP:20260423T221844Z
SUMMARY:Men's Golf
LOCATION:Hemlock Springs 4654 Cork Cold Springs  Geneva OH 44041
ORGANIZER;CN=admin:MAILTO:IT@roamingshores.org
RRULE:FREQ=WEEKLY;UNTIL=20260925T000000Z
DTSTART;TZID=America/New_York:20260514T161500
DTEND;TZID=America/New_York:20260514T170000
X-ALT-DESC;FMTTYPE=TEXT/HTML:The Men's Golf League meets from the last Thur
 sday in April to the end of September at 4:15pm - 4:30pm at Hemlock Spring
 s. For more information on the League\, please contact John Justice at 440
 -813-3469
CATEGORIES:Men\'s Golf
URL;VALUE=URI:https://www.roamingshores.org/RRA1/mc-events/mens-golf-2/?mc_
 id=7110
METHOD:PUBLISH
END:VEVENT
END:VCALENDAR