BEGIN:VCALENDAR
VERSION:2.0
PRODID:spatie/icalendar-generator
DESCRIPTION:Events from RomeRock Association
X-WR-CALDESC:Events from RomeRock Association
REFRESH-INTERVAL;VALUE=DURATION:PT1440M
X-PUBLISHED-TTL:PT1440M
BEGIN:VTIMEZONE
TZID:America/New_York
BEGIN:STANDARD
DTSTART:20251102T020000Z
TZOFFSETFROM:-0400
TZOFFSETTO:-0500
END:STANDARD
BEGIN:DAYLIGHT
DTSTART:20260308T020000Z
TZOFFSETFROM:-0500
TZOFFSETTO:-0400
END:DAYLIGHT
BEGIN:STANDARD
DTSTART:20261101T020000Z
TZOFFSETFROM:-0400
TZOFFSETTO:-0500
END:STANDARD
END:VTIMEZONE
BEGIN:VTIMEZONE
TZID:UTC
BEGIN:STANDARD
DTSTART:20250727T191521Z
TZOFFSETFROM:+0000
TZOFFSETTO:+0000
END:STANDARD
END:VTIMEZONE
BEGIN:VEVENT
UID:6780-704
DTSTAMP:20260423T191521Z
SUMMARY:Pickleball Open Play (Recreational)
LOCATION:Tennis/Pickleball Courts 4  Roaming Rock Blvd Roaming Shores OH  4
 4085
ORGANIZER;CN=admin:MAILTO:IT@roamingshores.org
RRULE:FREQ=WEEKLY;UNTIL=20261114T000000Z
DTSTART;TZID=America/New_York:20260501T110000
DTEND;TZID=America/New_York:20260501T130000
X-ALT-DESC;FMTTYPE=TEXT/HTML:Weather permitting Open Play is held for recre
 ational players on Tuesdays and Fridays at 11:00 AM\; for competitive play
 ers on Sundays\, Mondays\, and Wednesdays at 6:00 PM\; and Saturdays from 
 9:00AM to 11:00 AM is for all skill levels. Pickleball players in The Shor
 es may join the group on the TeamReach app using the code&amp;hellip\;
CATEGORIES:Pickleball Club
URL;VALUE=URI:https://www.roamingshores.org/RRA1/mc-events/pickleball-open-
 play-recreational/?mc_id=6780
METHOD:PUBLISH
END:VEVENT
END:VCALENDAR