BEGIN:VCALENDAR
VERSION:2.0
PRODID:spatie/icalendar-generator
DESCRIPTION:Events from RomeRock Association
X-WR-CALDESC:Events from RomeRock Association
REFRESH-INTERVAL;VALUE=DURATION:PT1440M
X-PUBLISHED-TTL:PT1440M
BEGIN:VTIMEZONE
TZID:America/New_York
BEGIN:STANDARD
DTSTART:20241103T020000Z
TZOFFSETFROM:-0400
TZOFFSETTO:-0500
END:STANDARD
BEGIN:DAYLIGHT
DTSTART:20250309T020000Z
TZOFFSETFROM:-0500
TZOFFSETTO:-0400
END:DAYLIGHT
BEGIN:STANDARD
DTSTART:20251102T020000Z
TZOFFSETFROM:-0400
TZOFFSETTO:-0500
END:STANDARD
END:VTIMEZONE
BEGIN:VTIMEZONE
TZID:UTC
BEGIN:STANDARD
DTSTART:20250727T082935Z
TZOFFSETFROM:+0000
TZOFFSETTO:+0000
END:STANDARD
END:VTIMEZONE
BEGIN:VEVENT
UID:5943-715
DTSTAMP:20260423T082935Z
SUMMARY:Summer Concert
LOCATION:Beach 1 13 Roaming Rock Blvd  Roaming Shores OH 44085
ORGANIZER;CN=admin:MAILTO:IT@roamingshores.org
DTSTART;TZID=America/New_York:20250712T170000
DTEND;TZID=America/New_York:20250712T180000
X-ALT-DESC;FMTTYPE=TEXT/HTML:Join us at the Kathy Crandall Entertainment Pa
 vilion for a Summer Concert. Everything Must Go! will be playing with food
  service by Blowing Smoke BBQ Concerts are free for RRA Members and their 
 guests only. Concerts are tentatively scheduled for 6:00pm to 9:30pm with 
 food service beginning at 5:00pm. Enjoy from Beach 1 or by&amp;hellip\;
CATEGORIES:RRA
URL;VALUE=URI:https://www.roamingshores.org/RRA1/mc-events/summer-concert-2
 2/
METHOD:PUBLISH
END:VEVENT
END:VCALENDAR